BEGIN:VCALENDAR
VERSION:2.0
PRODID:-//Tukios.com/
BEGIN:VEVENT
UID:cbd2405e-e9a5-47ad-b36a-69fcecf339ff@www.ciscofuneralhome.com
DTSTAMP:20260425T233935Z
DTSTART:20260502T140000Z
DTEND:20260502T180000Z
SUMMARY:Memorial Gathering
DESCRIPTION:
URL:https://www.ciscofuneralhome.com/obituaries/pat-hemmelgarn
LOCATION:Cisco Funeral Home 6921 State Route 703  Celina OH 45822
GEO:40.5461944;-84.5352226
END:VEVENT
END:VCALENDAR