BEGIN:VCALENDAR
VERSION:2.0
PRODID:-//Tukios.com/
BEGIN:VEVENT
UID:83876af4-8b92-47c2-bc1d-58b90d4dfdcc@www.ciscofuneralhome.com
DTSTAMP:20260425T234154Z
DTSTART:20260502T180000Z
DTEND:20260502T190000Z
SUMMARY:Memorial Service
DESCRIPTION:
URL:https://www.ciscofuneralhome.com/obituaries/pat-hemmelgarn
LOCATION:Cisco Funeral Home 6921 State Route 703  Celina OH 45822
GEO:40.546724;-84.535785
END:VEVENT
END:VCALENDAR