BEGIN:VCALENDAR
VERSION:2.0
PRODID:-//Tukios.com/
BEGIN:VEVENT
UID:455df9d8-e8f5-4af9-bc0c-866328bc8a59@www.ciscofuneralhome.com
DTSTAMP:20260425T234302Z
DTSTART:20260502T184500Z
DTEND:20260502T194500Z
SUMMARY:Burial
DESCRIPTION:
URL:https://www.ciscofuneralhome.com/obituaries/pat-hemmelgarn
LOCATION: Mercer County  Celina OH 45822
GEO:40.5489358;-84.5702338
END:VEVENT
END:VCALENDAR