BEGIN:VCALENDAR
VERSION:2.0
PRODID:-//Tukios.com/
BEGIN:VEVENT
UID:39fc3f5f-5732-49e3-9e07-d5512f63824c@www.ciscofuneralhome.com
DTSTAMP:20260422T024222Z
DTSTART:20260425T160000Z
DTEND:20260425T170000Z
SUMMARY:Memorial Service
DESCRIPTION:
URL:https://www.ciscofuneralhome.com/obituaries/randy-niblick
LOCATION:Cisco Funeral Home 6921 State Route 703  Celina OH 45822
GEO:40.546724;-84.535785
END:VEVENT
END:VCALENDAR