BEGIN:VCALENDAR
VERSION:2.0
PRODID:-//Tukios.com/
BEGIN:VEVENT
UID:2d23d904-585e-4e54-87c0-44bbc45be27b@www.ciscofuneralhome.com
DTSTAMP:20260422T024126Z
DTSTART:20260425T140000Z
DTEND:20260425T160000Z
SUMMARY:Memorial Gathering
DESCRIPTION:
URL:https://www.ciscofuneralhome.com/obituaries/randy-niblick
LOCATION:Cisco Funeral Home 6921 State Route 703  Celina OH 45822
GEO:40.5461944;-84.5352226
END:VEVENT
END:VCALENDAR