BEGIN:VCALENDAR
VERSION:2.0
PRODID:-//Tukios.com/
BEGIN:VEVENT
UID:e6ec4537-4796-46e9-a0ed-69985fb07dce@www.ciscofuneralhome.com
DTSTAMP:20260420T235740Z
DTSTART:20260423T180000Z
DTEND:20260423T200000Z
SUMMARY:Visitation
DESCRIPTION:
URL:https://www.ciscofuneralhome.com/obituaries/terry-krauss
LOCATION:Cisco Funeral Home 1175 East Greenville Road  Saint Marys OH 
	45885
GEO:40.5414777;-84.3692785
END:VEVENT
END:VCALENDAR