BEGIN:VCALENDAR
VERSION:2.0
PRODID:-//Tukios.com/
BEGIN:VEVENT
UID:713d779c-0fba-4ea8-a271-979d1727a32f@www.ciscofuneralhome.com
DTSTAMP:20260420T235427Z
DTSTART:20260424T140000Z
DTEND:20260424T150000Z
SUMMARY:Funeral Service
DESCRIPTION:
URL:https://www.ciscofuneralhome.com/obituaries/terry-krauss
LOCATION:Cisco Funeral Home 1175 East Greenville Road  Saint Marys OH 
	45885
GEO:40.5414777;-84.3692785
END:VEVENT
END:VCALENDAR