BEGIN:VCALENDAR
VERSION:2.0
PRODID:-//Tukios.com/
BEGIN:VEVENT
UID:539cc4ad-43b1-4c46-a98e-297bf9473fa3@www.ciscofuneralhome.com
DTSTAMP:20260420T235609Z
DTSTART:20260424T140000Z
DTEND:20260424T150000Z
SUMMARY:Interment
DESCRIPTION:
URL:https://www.ciscofuneralhome.com/obituaries/terry-krauss
LOCATION:Gethsemane Cemetery 631 Greenville Rd  Saint Marys OH 45885
GEO:40.5338845;-84.3924933
END:VEVENT
END:VCALENDAR