BEGIN:VCALENDAR
VERSION:2.0
PRODID:-//Tukios.com/
BEGIN:VEVENT
UID:99e417e9-dbdc-47c7-9330-1f77cbd833fd@www.ciscofuneralhome.com
DTSTAMP:20260420T235237Z
DTSTART:20260424T130000Z
DTEND:20260424T140000Z
SUMMARY:Visitation
DESCRIPTION:
URL:https://www.ciscofuneralhome.com/obituaries/terry-krauss
LOCATION: 1175 E. Greenville Rd.  St. Marys OH 45885
GEO:40.54147;-84.3692995
END:VEVENT
END:VCALENDAR