BEGIN:VCALENDAR
VERSION:2.0
PRODID:-//Tukios.com/
BEGIN:VEVENT
UID:44ca38e1-abf2-47cd-ab23-b646a94fec40@www.ciscofuneralhome.com
DTSTAMP:20260420T235403Z
DTSTART:20260423T200000Z
DTEND:20260423T220000Z
SUMMARY:Memorial Gathering
DESCRIPTION:
URL:https://www.ciscofuneralhome.com/obituaries/terry-ted-stachler
LOCATION: 6921 State Route 703  Celina OH 45822
GEO:40.546724;-84.535785
END:VEVENT
END:VCALENDAR