BEGIN:VCALENDAR
VERSION:2.0
PRODID:-//Tukios.com/
BEGIN:VEVENT
UID:e303d660-cb87-45f2-90b5-3dd69e426dbc@www.ciscofuneralhome.com
DTSTAMP:20260420T235139Z
DTSTART:20260424T150000Z
DTEND:20260424T160000Z
SUMMARY:Celebration of Life
DESCRIPTION:
URL:https://www.ciscofuneralhome.com/obituaries/terry-ted-stachler
LOCATION:New Horizons Community Church 833 South Main Street  Rockford OH 
	45882
GEO:40.681228;-84.6484516
END:VEVENT
END:VCALENDAR