BEGIN:VCALENDAR
VERSION:2.0
PRODID:-//Tukios.com/
BEGIN:VEVENT
UID:b6804a24-23cd-4ece-87af-e298826eb711@www.ciscofuneralhome.com
DTSTAMP:20260420T235549Z
DTSTART:20260424T140000Z
DTEND:20260424T150000Z
SUMMARY:Memorial Gathering
DESCRIPTION:
URL:https://www.ciscofuneralhome.com/obituaries/terry-ted-stachler
LOCATION: 833 South Main Street  Rockford OH 45882
GEO:40.681228;-84.6484516
END:VEVENT
END:VCALENDAR